BEGIN:VCALENDAR
VERSION:2.0
PRODID:-//German-Indonesian Energy Hub - ECPv6.15.0.1//NONSGML v1.0//EN
CALSCALE:GREGORIAN
METHOD:PUBLISH
X-WR-CALNAME:German-Indonesian Energy Hub
X-ORIGINAL-URL:https://energy.etuyadev.my.id
X-WR-CALDESC:Events for German-Indonesian Energy Hub
REFRESH-INTERVAL;VALUE=DURATION:PT1H
X-Robots-Tag:noindex
X-PUBLISHED-TTL:PT1H
BEGIN:VTIMEZONE
TZID:UTC
BEGIN:STANDARD
TZOFFSETFROM:+0000
TZOFFSETTO:+0000
TZNAME:UTC
DTSTART:20250101T000000
END:STANDARD
END:VTIMEZONE
BEGIN:VEVENT
DTSTART;VALUE=DATE:20250918
DTEND;VALUE=DATE:20250926
DTSTAMP:20260424T012039
CREATED:20250828T044351Z
LAST-MODIFIED:20250828T044351Z
UID:1119-1758153600-1758844799@energy.etuyadev.my.id
SUMMARY:Business Roundtable: Building sustainable green hydrogen
DESCRIPTION:
URL:https://energy.etuyadev.my.id/event/business-roundtable-building-sustainable-green-hydrogen/
LOCATION:Jakarta\, EKONID\, DKI Jakarta\, Indonesia
END:VEVENT
BEGIN:VEVENT
DTSTART;VALUE=DATE:20250827
DTEND;VALUE=DATE:20250828
DTSTAMP:20260424T012039
CREATED:20250828T044048Z
LAST-MODIFIED:20250828T044319Z
UID:1109-1756252800-1756339199@energy.etuyadev.my.id
SUMMARY:Hybrid Seminar: Scaling up Green Hydrogen - from Policy to Implementation
DESCRIPTION:
URL:https://energy.etuyadev.my.id/event/hybrid-seminar-scaling-up-green-hydrogen-from-policy-to-implementation/
LOCATION:Jakarta\, EKONID Office\, DKI Jakarta\, Indonesia
END:VEVENT
BEGIN:VEVENT
DTSTART;VALUE=DATE:20250612
DTEND;VALUE=DATE:20250613
DTSTAMP:20260424T012039
CREATED:20250828T043814Z
LAST-MODIFIED:20250828T043814Z
UID:1103-1749686400-1749772799@energy.etuyadev.my.id
SUMMARY:Hybrid Seminar: Realising Green Hydrogen Vision
DESCRIPTION:Hybrid Seminar: Realizing Green Hydrogen Vision (2025\, Indonesia) \nThe Hybrid Seminar: Realizing Green Hydrogen Vision is scheduled for June 12\, 2025\, at the Mandarin Oriental Hotel in Jakarta\, Indonesia. This pivotal event is part of the International Hydrogen Ramp-up Programme (H2Uppp)\, initiated by the German Federal Ministry for Economic Affairs and Climate Action (BMWK) and implemented in Indonesia by AHK Indonesia/EKONID\, the German-Indonesian Chamber of Industry and Commerce\, and the Deutsche Gesellschaft für Internationale Zusammenarbeit (GIZ) GmbH. The seminar aims to foster collaboration among Indonesian\, German\, and European stakeholders to accelerate the development of a sustainable green hydrogen ecosystem in Indonesia. \nThe seminar will feature a series of presentations and discussions focusing on innovation\, investment\, and collaboration in the green hydrogen sector. Key topics will include the latest technological advancements in green hydrogen production\, insights into regulatory frameworks\, and strategies to attract investments. The event will also highlight the role of international partnerships in driving the growth of the green hydrogen industry in Indonesia. \nThis hybrid format seminar offers both in-person and virtual participation options\, ensuring accessibility for a wide range of participants. It serves as a platform for industry leaders\, policymakers\, and experts to exchange knowledge\, discuss challenges and opportunities\, and explore potential collaborations in the green hydrogen sector. By bringing together diverse perspectives\, the seminar aims to contribute to Indonesia’s transition towards a low-carbon energy future.
URL:https://energy.etuyadev.my.id/event/hybrid-seminar-realising-green-hydrogen-vision/
LOCATION:The Mandarin Oriental\, Jakarta\, DKI Jakarta\, Indonesia
END:VEVENT
BEGIN:VEVENT
DTSTART;VALUE=DATE:20250519
DTEND;VALUE=DATE:20250525
DTSTAMP:20260424T012039
CREATED:20250828T043955Z
LAST-MODIFIED:20250828T043955Z
UID:1107-1747612800-1748131199@energy.etuyadev.my.id
SUMMARY:Peluncuran Film Pendek Jejak Kiara
DESCRIPTION:On December 13\, 2024\, CASE Indonesia launched its short film titled “Jejak Kiara”\, marking the third installment in a series focused on energy transition and sustainability. Following the success of “Mimpi Kiara” (2021) and “Kabin Kiara” (2022)\, this film explores the journey of Kiara\, a woman navigating the challenges of Indonesia’s energy transition. Through Kiara’s story\, the film aims to educate and raise awareness about the importance of inclusive energy solutions and the need for collective action in addressing climate change and ensuring a sustainable future. \n“Jejak Kiara” brings attention to the broader theme of energy transition and its impact on society\, with a particular focus on the role of communities in achieving a more sustainable energy future. By highlighting the challenges faced by individuals and communities\, the film underscores the significance of empowering local stakeholders\, governments\, and the younger generation in driving the transition to renewable energy sources. The film is intended to spark a conversation about how energy solutions can be more inclusive and accessible\, especially for those most affected by climate change. \nThe film is available for public viewing on YouTube through IESR and aims to serve as a valuable resource for educating audiences about the importance of energy transition. By engaging viewers with a relatable narrative and practical insights\, “Jejak Kiara” seeks to inspire action and collaboration among diverse groups\, from policymakers to community leaders\, in order to accelerate the shift towards a sustainable energy future in Indonesia and beyond
URL:https://energy.etuyadev.my.id/event/peluncuran-film-pendek-jejak-kiara/
LOCATION:Bangkok – Malaysia\, Malaysia
END:VEVENT
BEGIN:VEVENT
DTSTART;VALUE=DATE:20250519
DTEND;VALUE=DATE:20250523
DTSTAMP:20260424T012039
CREATED:20250828T043911Z
LAST-MODIFIED:20250828T043911Z
UID:1105-1747612800-1747958399@energy.etuyadev.my.id
SUMMARY:German Training Week Green Hydrogen
DESCRIPTION:The German Training Week – Green Hydrogen 2025 took place from May 19–22\, 2025\, at the Le Meridien Hotel in Jakarta\, Indonesia. This event is organized by the Deutsche Gesellschaft für Internationale Zusammenarbeit (GIZ) under the Green Hydrogen Project Development Programme\, supported by the German Federal Ministry for Economic Affairs and Climate Action (BMWK). It is designed to offer in-depth training on the growing green hydrogen sector\, focusing on technology\, market dynamics\, and regulatory frameworks. The seminar aims to build local capacities and foster partnerships between Indonesian and German entities in the field of green hydrogen. \nThroughout the four days\, participants will engage in a series of expert-led sessions covering various aspects of green hydrogen\, including production technologies like electrolysis and ammonia synthesis\, storage and transportation solutions\, and sustainability considerations. The training will also explore the economic models\, financing opportunities\, and policies supporting green hydrogen development. This comprehensive program is intended to equip participants with the necessary knowledge and skills to lead and engage in green hydrogen projects\, positioning them for success in the rapidly evolving energy market. \nIn addition to the technical and theoretical aspects\, the event will provide ample networking opportunities for participants to interact with key stakeholders from both the local and international energy sectors. Registration for the German Training Week is free\, and interested individuals are encouraged to submit their applications by May 12\, 2025. This training offers a unique chance for professionals to advance their understanding of green hydrogen and its potential role in Indonesia’s energy transition.
URL:https://energy.etuyadev.my.id/event/german-training-week-green-hydrogen/
LOCATION:Le Meridien\, Jakarta\, DKI Jakarta\, Indonesia
END:VEVENT
END:VCALENDAR