BEGIN:VCALENDAR
VERSION:2.0
PRODID:-//German-Indonesian Energy Hub - ECPv6.15.0.1//NONSGML v1.0//EN
CALSCALE:GREGORIAN
METHOD:PUBLISH
X-ORIGINAL-URL:https://energy.etuyadev.my.id
X-WR-CALDESC:Events for German-Indonesian Energy Hub
REFRESH-INTERVAL;VALUE=DURATION:PT1H
X-Robots-Tag:noindex
X-PUBLISHED-TTL:PT1H
BEGIN:VTIMEZONE
TZID:UTC
BEGIN:STANDARD
TZOFFSETFROM:+0000
TZOFFSETTO:+0000
TZNAME:UTC
DTSTART:20250101T000000
END:STANDARD
END:VTIMEZONE
BEGIN:VEVENT
DTSTART;VALUE=DATE:20250918
DTEND;VALUE=DATE:20250926
DTSTAMP:20260423T233327
CREATED:20250828T044351Z
LAST-MODIFIED:20250828T044351Z
UID:1119-1758153600-1758844799@energy.etuyadev.my.id
SUMMARY:Business Roundtable: Building sustainable green hydrogen
DESCRIPTION:
URL:https://energy.etuyadev.my.id/event/business-roundtable-building-sustainable-green-hydrogen/
LOCATION:Jakarta\, EKONID\, DKI Jakarta\, Indonesia
END:VEVENT
END:VCALENDAR