BEGIN:VCALENDAR
VERSION:2.0
PRODID:-//German-Indonesian Energy Hub - ECPv6.15.0.1//NONSGML v1.0//EN
CALSCALE:GREGORIAN
METHOD:PUBLISH
X-WR-CALNAME:German-Indonesian Energy Hub
X-ORIGINAL-URL:https://energy.etuyadev.my.id
X-WR-CALDESC:Events for German-Indonesian Energy Hub
REFRESH-INTERVAL;VALUE=DURATION:PT1H
X-Robots-Tag:noindex
X-PUBLISHED-TTL:PT1H
BEGIN:VTIMEZONE
TZID:UTC
BEGIN:STANDARD
TZOFFSETFROM:+0000
TZOFFSETTO:+0000
TZNAME:UTC
DTSTART:20250101T000000
END:STANDARD
END:VTIMEZONE
BEGIN:VEVENT
DTSTART;VALUE=DATE:20250612
DTEND;VALUE=DATE:20250613
DTSTAMP:20260424T035117
CREATED:20250828T043814Z
LAST-MODIFIED:20250828T043814Z
UID:1103-1749686400-1749772799@energy.etuyadev.my.id
SUMMARY:Hybrid Seminar: Realising Green Hydrogen Vision
DESCRIPTION:Hybrid Seminar: Realizing Green Hydrogen Vision (2025\, Indonesia) \nThe Hybrid Seminar: Realizing Green Hydrogen Vision is scheduled for June 12\, 2025\, at the Mandarin Oriental Hotel in Jakarta\, Indonesia. This pivotal event is part of the International Hydrogen Ramp-up Programme (H2Uppp)\, initiated by the German Federal Ministry for Economic Affairs and Climate Action (BMWK) and implemented in Indonesia by AHK Indonesia/EKONID\, the German-Indonesian Chamber of Industry and Commerce\, and the Deutsche Gesellschaft für Internationale Zusammenarbeit (GIZ) GmbH. The seminar aims to foster collaboration among Indonesian\, German\, and European stakeholders to accelerate the development of a sustainable green hydrogen ecosystem in Indonesia. \nThe seminar will feature a series of presentations and discussions focusing on innovation\, investment\, and collaboration in the green hydrogen sector. Key topics will include the latest technological advancements in green hydrogen production\, insights into regulatory frameworks\, and strategies to attract investments. The event will also highlight the role of international partnerships in driving the growth of the green hydrogen industry in Indonesia. \nThis hybrid format seminar offers both in-person and virtual participation options\, ensuring accessibility for a wide range of participants. It serves as a platform for industry leaders\, policymakers\, and experts to exchange knowledge\, discuss challenges and opportunities\, and explore potential collaborations in the green hydrogen sector. By bringing together diverse perspectives\, the seminar aims to contribute to Indonesia’s transition towards a low-carbon energy future.
URL:https://energy.etuyadev.my.id/event/hybrid-seminar-realising-green-hydrogen-vision/
LOCATION:The Mandarin Oriental\, Jakarta\, DKI Jakarta\, Indonesia
END:VEVENT
END:VCALENDAR